BEGIN:VCALENDAR
VERSION:2.0
PRODID:-//ChamberMaster//Event Calendar 2.0//EN
METHOD:PUBLISH
X-PUBLISHED-TTL:P1H
REFRESH-INTERVAL:P1H
CALSCALE:GREGORIAN
BEGIN:VTIMEZONE
TZID:America/Chicago
BEGIN:DAYLIGHT
RRULE:FREQ=YEARLY;BYMONTH=3;BYDAY=2SU
DTSTART:20070101T000000
TZOFFSETFROM:-0600
TZOFFSETTO:-0500
TZNAME:Central Daylight Time
END:DAYLIGHT
BEGIN:STANDARD
RRULE:FREQ=YEARLY;BYMONTH=11;BYDAY=1SU
DTSTART:20070101T000000
TZOFFSETFROM:-0500
TZOFFSETTO:-0600
TZNAME:Central Standard Time
END:STANDARD
END:VTIMEZONE
BEGIN:VEVENT
DTSTART;TZID=America/Chicago:20240316T090000
DTEND;TZID=America/Chicago:20240316T150000
X-MICROSOFT-CDO-ALLDAYEVENT:FALSE
SUMMARY:EOT Horticulture Day
DESCRIPTION:***Tickets are now available online\, pre-registration required!! Limit 200 attendees\, so sign up now! ****\nWe are excited to announce the upcoming annual EOT Horticulture Day on March 16th\, 2024! Speaker topics include growing sweet potatoes\, tomatoes\, garlic\, and herbs\, caring for fruit trees\, hydrangeas and shrubs\, propagation\, cottage gardens and lily bulbs\, and more!\nRegistration can be found at this link: https://z.umn.edu/EOTHortDay2024\nPlease note that the event is limited to 200 attendees\, so pre-registration is required. Lunch is provided\, and vegetarian and gluten-free options are available. Registration will be $35 and include 5 sessions\, access to a variety of vendors\, and a bag lunch.\nWe look forward to seeing you there!\n9 am:\nJodie Ramsay & Julie Schroer - Gardening in a Changing Climate\nKelly Kyllonen - Succulents\nDon Kinzler - Tomatoes\nJackie Froemming - Selecting & Growing Hostas\nRyan Pesch - Sell What you Grow\nSally Hauskens - Growing Natives in your Garden\nPete Guck - Using Natives along the Lakeshore\n10 am:\nJodie Ramsay & Julie Schroer - Gardening in a Changing Climate\nKelly Kyllonen - Succulents\nDon Kinzler - Lawn & Garden Ready for Spring\nJackie Froemming - Selecting & Growing Hostas\nRyan Pesch - Sell What you Grow\nSally Hauskens - Growing Natives in your Garden\nPete Guck - Using Naties with Lake Shore\nCarol Rethemeier - Growing Root Crops\n11 am:\nAmy Svensrud - House plants\nBeth Harvieux - Bee Lawns\nDon Kinzler - Lawn & Garden Chemicals\nJean Siirila - Birding\nOlivia Olson & Zachary Paige - Growing Garlic\nRoger Walvatne - Hydrangeas & Hibiscus\nCarol Rethemeier - Growing Root Crops\n1 pm:\nAmy Svensrud - House plants\nLewis Struthers - Bee keeping\nDave Vaske - Plant Propagation\nRobin Trott - Growing/Using Herbs\nOlivia Olson & Zachary Paige - Growing Garlic\nRoger Walvatne - His Favorite Plants/Shrubs/Trees\nBeth Harvieux - Planting & Growing Fall Perennials\n2 pm:\nJean Siirila - Birding\nLewis Struthers - Growing Sweet Potatoes\nDave Vaske - Plant Propagation\nRobin Trott - Growing/Using Herbs\nZachary Paige - Seed Saving\nRoger Walvatne & Carol Rethemeier - Oh Dear/Oh Deer\nBeth Harvieux - Planting & Growing Fall Perennials
X-ALT-DESC;FMTTYPE=text/html:***Tickets are now available online\, pre-registration required!! Limit 200 attendees\, so sign up now! ****\nWe are excited to announce the upcoming annual EOT Horticulture Day on March 16th\, 2024! Speaker topics include growing sweet potatoes\, tomatoes\, garlic\, and herbs\, caring for fruit trees\, hydrangeas and shrubs\, propagation\, cottage gardens and lily bulbs\, and more!\nRegistration can be found at this link: https://z.umn.edu/EOTHortDay2024\nPlease note that the event is limited to 200 attendees\, so pre-registration is required. Lunch is provided\, and vegetarian and gluten-free options are available. Registration will be $35 and include 5 sessions\, access to a variety of vendors\, and a bag lunch.\nWe look forward to seeing you there!\n9 am:\nJodie Ramsay & Julie Schroer - Gardening in a Changing Climate\nKelly Kyllonen - Succulents\nDon Kinzler - Tomatoes\nJackie Froemming - Selecting & Growing Hostas\nRyan Pesch - Sell What you Grow\nSally Hauskens - Growing Natives in your Garden\nPete Guck - Using Natives along the Lakeshore\n10 am:\nJodie Ramsay & Julie Schroer - Gardening in a Changing Climate\nKelly Kyllonen - Succulents\nDon Kinzler - Lawn & Garden Ready for Spring\nJackie Froemming - Selecting & Growing Hostas\nRyan Pesch - Sell What you Grow\nSally Hauskens - Growing Natives in your Garden\nPete Guck - Using Naties with Lake Shore\nCarol Rethemeier - Growing Root Crops\n11 am:\nAmy Svensrud - House plants\nBeth Harvieux - Bee Lawns\nDon Kinzler - Lawn & Garden Chemicals\nJean Siirila - Birding\nOlivia Olson & Zachary Paige - Growing Garlic\nRoger Walvatne - Hydrangeas & Hibiscus\nCarol Rethemeier - Growing Root Crops\n1 pm:\nAmy Svensrud - House plants\nLewis Struthers - Bee keeping\nDave Vaske - Plant Propagation\nRobin Trott - Growing/Using Herbs\nOlivia Olson & Zachary Paige - Growing Garlic\nRoger Walvatne - His Favorite Plants/Shrubs/Trees\nBeth Harvieux - Planting & Growing Fall Perennials\n2 pm:\nJean Siirila - Birding\nLewis Struthers - Growing Sweet Potatoes\nDave Vaske - Plant Propagation\nRobin Trott - Growing/Using Herbs\nZachary Paige - Seed Saving\nRoger Walvatne & Carol Rethemeier - Oh Dear/Oh Deer\nBeth Harvieux - Planting & Growing Fall Perennials
LOCATION:
UID:e.3286.945652
SEQUENCE:3
DTSTAMP:20260421T162810Z
URL:https://member.perham.com/calendar/Details/eot-horticulture-day-1075575?sourceTypeId=Hub
END:VEVENT
END:VCALENDAR
