BEGIN:VCALENDAR
VERSION:2.0
PRODID:-//ChamberMaster//Event Calendar 2.0//EN
METHOD:PUBLISH
X-PUBLISHED-TTL:P1H
REFRESH-INTERVAL:P1H
CALSCALE:GREGORIAN
BEGIN:VTIMEZONE
TZID:America/Chicago
BEGIN:DAYLIGHT
RRULE:FREQ=YEARLY;BYMONTH=3;BYDAY=2SU
DTSTART:20070101T000000
TZOFFSETFROM:-0600
TZOFFSETTO:-0500
TZNAME:Central Daylight Time
END:DAYLIGHT
BEGIN:STANDARD
RRULE:FREQ=YEARLY;BYMONTH=11;BYDAY=1SU
DTSTART:20070101T000000
TZOFFSETFROM:-0500
TZOFFSETTO:-0600
TZNAME:Central Standard Time
END:STANDARD
END:VTIMEZONE
BEGIN:VEVENT
DTSTART;VALUE=DATE:20240330
DTEND;VALUE=DATE:20240331
TRANSP:TRANSPARENT
X-MICROSOFT-CDO-ALLDAYEVENT:TRUE
SUMMARY:Saturdays @ Lakeside Tap
DESCRIPTION:2 topping pizza & a domestic pitcher $20
X-ALT-DESC;FMTTYPE=text/html:2 topping pizza & a domestic pitcher $20
LOCATION:2727 450th St Perham MN 56573
UID:e.3286.956256
SEQUENCE:3
DTSTAMP:20260424T165442Z
URL:https://member.perham.com/calendar/Details/saturdays-lakeside-tap-1088676?sourceTypeId=Hub
END:VEVENT
END:VCALENDAR
